


BEGIN:VCALENDAR
VERSION:2.0
PRODID:-//Museozoom.be v2016//EN
BEGIN:VEVENT
STATUS:CONFIRMED
DTSTART:19700101
DTEND:20191006
SUMMARY:Expo : « Le Folklore belge dans tous ses états »
DESCRIPTION:ReGare sur Fosses-la-Ville présente l’exposition : Le Folklore belge dans tous ses états !Le Centre d’interprétation du Patrimoine fossois et régional prendra des allures de dressing de luxe pour accueillir le célèbre Ket de Bruxelles. Le folklore belge se laissera découvrir au gré de 20 costumes issus de la prestigieuse garde-robe de Manneken-Pis.À découvrir : le Chinel de Fosses-la-Ville, le Molon de Namur, saint Georges de Mons, le Noiraud de Bruxelles, Tchantchès de Liège, l’échasseur de Merchtem et bien d’autres…ReGare sur Fosses-la-Ville vous promet un tour d’horizon haut en couleur du folklore belge. Et pour l’occasion, une sélection des poupées de Lilette Arnould prendra ses quartiers à ReGare sur Fosses-la-Ville pour le plus grand plaisir des petits et des grands.Une exposition réalisée par ReGare sur Fosses-la-Ville avec l’aimable collaboration du Musée Garde-robe MannekenPis de Bruxelles et le soutien de l’Administration communale de Fosses-la-Ville.Contenu de l’expo :20 costumes folkloriques belges issus du Musée bruxellois Garde-robe MannekenPis ; 20 panneaux informatifs et didactiques expliquant chaque folklore ; Une sélection des poupées de Lilette Arnould.Infos pratiques :Ouvert du mardi au dimanche et les jours fériés (sauf 25/12) de 10h à 17hCombien ? 2,50 €/personne et gratuit pour les – de 12 ans accompagnés.
LOCATION:Place de la Gare 75070 Fosses-la-Ville
END:VEVENT
END:VCALENDAR