


BEGIN:VCALENDAR
VERSION:2.0
PRODID:-//Museozoom.be v2016//EN
BEGIN:VEVENT
STATUS:CONFIRMED
DTSTART:19700101
DTEND:19700101
SUMMARY:Plongez dans l’ambiance féerique de Noël au Centre de la Marionnette
DESCRIPTION:Sapins, guirlandes et illuminations&#8230; La magie de Noël s’installe au Centre de la Marionnette de la Fédération Wallonie-Bruxelles. Comme tous les ans, la compagnie du Créa-Théâtre propose ses «Scènes à Noël» : un spectacle poétique et déambulatoire ! Nouveauté 2019 : il sera possible d’admirer l’impressionnante exposition «2000 Pères Noël» de Francis Houtteman, fondateur du Centre de la Marionnette, en dehors du spectacle. Des moments suspendus à vivre en famille ou entre amis, dans l’ambiance chaleureuse et festive de Noël.Spectacle «La sœur de Père Noël» : La famille du Père Noël reste secrète. Qui connaît ses frères, ses cousins, ses cousines ? Cette année, des indices semblent témoigner de l’existence de sa sœur. Les retrouvailles s’annoncent festives ! Un spectacle du Créa-Théâtre.Quand ? Les 14 et 15 décembre à 17h, le 18 décembre à 16h et les 21 et 22 décembre à 17hCombien ? 9€ en tarif plein, 6€ en tarif réduitRéservation obligatoireExposition « 2 000 Pères Noël»: Cette exposition réunit la collection de plus de 2 000 effigies du Père Noël, issues de la collection de Francis Houtteman, auteur et comédien du spectacle «Les secrets du Père Noël». Une invitation à s’immerger au pays des Pères Noël&#8230;Quand ? Du 26 au 29 décembre, de 14h à 17hCombien ? 1€, entrée gratuite si achat d’un ticket d’entrée au Musée des arts de la Marionnette
LOCATION:Rue Saint-Martin, 477500 TOURNAI 
END:VEVENT
END:VCALENDAR