


BEGIN:VCALENDAR
VERSION:2.0
PRODID:-//Museozoom.be v2016//EN
BEGIN:VEVENT
STATUS:CONFIRMED
DTSTART:20200912
DTEND:19700101
SUMMARY:Journées du Patrimoine : Le Trésor de Liège
DESCRIPTION:Le Trésor de la cathédrale de Liège se trouve autour de son cloître. De nombreuses œuvres d&rsquo;exception témoignant de l&rsquo;ancienne Principauté de Liège sont exposées et parmi elles se trouvent des orfèvreries, sculptures et textiles qui vous mettront des étoiles plein les yeux.&nbsp;Infos pratiques : Quand ?  Samedi de 10h à 17h  et dimanche de 13h à 18h
LOCATION:6, rue Bonne Fortune4000 Liège
END:VEVENT
END:VCALENDAR