


BEGIN:VCALENDAR
VERSION:2.0
PRODID:-//Museozoom.be v2016//EN
BEGIN:VEVENT
STATUS:CONFIRMED
DTSTART:19700101
DTEND:19700101
SUMMARY:Une exposition peu « commune » - parcours dans les collections artistiques de la Ville d’Arlon
DESCRIPTION:Comment la collection artistique d’une commune se constitue-t-elle au fil du temps ? Celle de la Ville d’Arlon se compose d’apports divers, par la mise en dépôt d’œuvres appartenant à l’Etat, le mécénat à l’égard d’artiste locaux, par des dons ou des legs, des cadeaux ou encore des achats. Connaitre la provenance d’une œuvre apporte souvent un éclairage supplémentaire sur son histoire. Certaines pièces sont bien connues, d’autres ont gardé le secret de leur parcours. Si elles n’ont pas de grand rapport entre elles, elles nous disent cependant quelque chose de notre patrimoine. Des portraits officiels aux faïences de Delft, en passant par des œuvres remarquables et méconnues, mais aussi les œuvres des artistes arlonais contemporains, l’exposition vous invite à un voyage quelque peu insolite dans les collections qui appartiennent à la Ville d’Arlon.
LOCATION:Rue des Martyrs 166700 Arlon
END:VEVENT
END:VCALENDAR