


BEGIN:VCALENDAR
VERSION:2.0
PRODID:-//Museozoom.be v2016//EN
BEGIN:VEVENT
STATUS:CONFIRMED
DTSTART:19700101
DTEND:19700101
SUMMARY:Stage : "Raconte une histoire divine avec du chocolat"
DESCRIPTION:Tu es un amateur de chocolat et tu adores les histoires ? Alors ce stage est fait pour toi !Dans le cadre de l&rsquo;expo Choco Loco, nous proposons un stage artistique de trois jours pendant lequel les enfants inventent et vivent leur propre histoire. Ils utilisent pour ce faire la musique, le théâtre, le dessin, l&rsquo;argile et bien sûr… le chocolat.Le décor de ce stage est Train World. Plus d’une vingtaine de sculptures en chocolat y sont temporairement exposées. Elles sont le point de départ d&rsquo;une histoire qui a commencé il y a des siècles, quelque part en Amérique du Sud, là où les Seigneurs de la Nuit ont le pouvoir.Les personnages principaux de cette histoire sont des tonnes de chocolat, des Mayas, un train noir comme de l’encre et une fève de cacao rarissime. Comment l&rsquo;histoire se terminera-t-elle ? À toi d’en décider !Ce qu&rsquo;ils en pensent ? Mes enfants ont adoré ce stage plein de belles découvertes ; Ma fille a été très contente ; Super chouette! ; Très positive, il a beaucoup aimé! ; L&rsquo;originalité, la découverte, le fait de mélanger plusieurs activités (dessin, musique, le goût etc&#8230;) !Infos pratiques :Pour les enfants de 8 à 12 ansQuand ? Du mardi 16 au jeudi 18 février inclus, de 10h à 17hAccueil de 9h à 18hCombien ? 100€ pour le premier enfant, 80€ pour d’autres enfants de la même familleInscrivez votre enfant ici
LOCATION:Place Princesse Elisabeth 51030 Schaerbeek
END:VEVENT
END:VCALENDAR