


BEGIN:VCALENDAR
VERSION:2.0
PRODID:-//Museozoom.be v2016//EN
BEGIN:VEVENT
STATUS:CONFIRMED
DTSTART:19700101
DTEND:19700101
SUMMARY:Stage : « Bas les masques ! », une journée carnavalesque
DESCRIPTION:Viens débusquer les masques, parfois bien cachés, dans les œuvres de Félicien Rops. Drôles, grimaçants, parfois inquiétants, ils seront le fil rouge d’une visite guidée « jeu de piste ». Teste ensuite la gravure et autres techniques d’arts plastiques à l’atelier. Tu peux venir déguisé·e si tu le souhaites. N’oublie pas ton pique-nique !Infos pratiques : Quand ? Lundi 15 février, de 9h à 16hCombien ? 12€Infos + réservation (obligatoire) auprès du service éducatif : +32 81 77 54 76 ou stephanie.dogot@province.namur.be
LOCATION:Rue Fumal 125000 Namur
END:VEVENT
END:VCALENDAR