


BEGIN:VCALENDAR
VERSION:2.0
PRODID:-//Museozoom.be v2016//EN
BEGIN:VEVENT
STATUS:CONFIRMED
DTSTART:19700101
DTEND:19700101
SUMMARY:Grand jeu à l’Écomusée du Viroin
DESCRIPTION:Du sabotier au saboteur, qui sera le premier à réunir tous les outils ?Venez vous divertir en famille autour d’un grand jeu ou vous endossez soit le rôle d’un sabotier soit…d’un saboteur ! Mais parmi les autres joueurs, vous ignorez qui est sabotier et qui est saboteur ! Essayez de le deviner pour savoir qui soutenir&#8230;Dans le magnifique château ferme de Treignes, le parcours est jalonné d’épreuves où techniques et outils anciens vous seront d’un grand secours pour atteindre votre but. Mais attention aux saboteurs !Habilité, tactique, bluff et rigolades vous attendent !QUAND ? Samedi 15 et dimanche 16 mai, à 11h, 14h et 16h.COMBIEN ? 5€/personne.
LOCATION:Rue Eugène Defraire 635670 Treignes
END:VEVENT
END:VCALENDAR