


BEGIN:VCALENDAR
VERSION:2.0
PRODID:-//Museozoom.be v2016//EN
BEGIN:VEVENT
STATUS:CONFIRMED
DTSTART:19700101
DTEND:19700101
SUMMARY:Après-midi au Musée du Petit Format
DESCRIPTION:Inspiré par ta visite au sein de l’exposition du musée, emporte un sac de matériel « technique mixte » pour explorer le superbe parc communal et son Jardin d’O et ramène-nous ta plus belle création !Cette activité est proposée tout le long de la belle saison.QUAND ? Vendredi 14 et dimanche 16 mai, de 14h à 18h.COMBIEN ? 3€/personne.
LOCATION:Rue Bassidaine, 65670  NismesBelgique
END:VEVENT
END:VCALENDAR