


BEGIN:VCALENDAR
VERSION:2.0
PRODID:-//Museozoom.be v2016//EN
BEGIN:VEVENT
STATUS:CONFIRMED
DTSTART:19700101
DTEND:19700101
SUMMARY:Joue aux Musées de la Ville d'eaux
DESCRIPTION:Tu as visité la Villa Royale et découvert ses multiples trésors ? Tu peux également regarder le Musée du Cheval, juste à côté du jardin.Dans ce parc, le musée t’invite à faire un petit jeu : la nature nous offre un tas de surprises !Respire, ouvre grand les yeux et, surtout, amuse-toi !QUAND ? Du 13 au 16 mai, de 14h à 18h.COMBIEN ? Jeu offert aux familles.
LOCATION:Avenue Reine Astrid 77b4900 Spa
END:VEVENT
END:VCALENDAR