


BEGIN:VCALENDAR
VERSION:2.0
PRODID:-//Museozoom.be v2016//EN
BEGIN:VEVENT
STATUS:CONFIRMED
DTSTART:19700101
DTEND:19700101
SUMMARY:Balade au Château de Jehay
DESCRIPTION:Du 15 au 16 mai 2021, viens découvrir le domaine du Château de Jehay.Pars avec François le jardinier à l’aventure. Suis les traces du minuscule.Participe à une visite guidée du potager tout en t’amusant. Fais tes semis dont tu pourras suivre la croissance.La Nature t’attend !Les activités sont prévues pour les enfants de 6 à 12 ans.QUAND ? Samedi 15 et dimanche 16 mai, de 11h à 18h. Atelier semis toutes les heures.COMBIEN ? Enfant : 3 € (avec carnet de jeux et animations) / Adulte : 5 €.
LOCATION:Rue du Parc 14540 Amay
END:VEVENT
END:VCALENDAR