


BEGIN:VCALENDAR
VERSION:2.0
PRODID:-//Museozoom.be v2016//EN
BEGIN:VEVENT
STATUS:CONFIRMED
DTSTART:19700101
DTEND:19700101
SUMMARY:Pyjam'art au TreM.a
DESCRIPTION:Ouïe, odorat, toucher, vue, goût…Rejoins les animatrices de la SAN lors d’une soirée pour découvrir le musée des arts ancien d’une tout autre façon.Tout y est permis mais à condition d’avoir le bon matériel !6 à 10 ansDe 18h à 19h30Réservation obligatoire au 081/77 67 54 &#8211; mediation.trema@province.namur.be&nbsp;
LOCATION:Rue de Fer 245000 Namur 
END:VEVENT
END:VCALENDAR