


BEGIN:VCALENDAR
VERSION:2.0
PRODID:-//Museozoom.be v2016//EN
BEGIN:VEVENT
STATUS:CONFIRMED
DTSTART:20210701
DTEND:19700101
SUMMARY:"Science on the beach" à La Maison de la science
DESCRIPTION:Du 1er juillet au 31 août, la Maison de la Science de Liège propose aux familles de vivre un été scientastique !Au programme :des tables d&rsquo;expériences sur le thème des vacances à la plage, du sable, de l&rsquo;eau, du soleil&#8230; dans un décor qui vous fera penser aux vacances.des séances d&rsquo;expériences commentées sur le thème des orages (tous les jours).des séances « sciences en familles » sur le thème de l&rsquo;été.Visites conseillées dès 9 ans.Activités annoncées sur le site web et la page Facebook de la Maison de la ScienceRéservation obligatoire !Informations : 04/366 50 04 et http://maisondelascience.uliege.be/
LOCATION:Quai E. Van Beneden 224020 Liège
END:VEVENT
END:VCALENDAR