


BEGIN:VCALENDAR
VERSION:2.0
PRODID:-//Museozoom.be v2016//EN
BEGIN:VEVENT
STATUS:CONFIRMED
DTSTART:19700101
DTEND:19700101
SUMMARY:Stage d'été au Musée du Verre
DESCRIPTION:Du 26 au 30 juillet 2021, le Musée du Verre de Charleroi propose aux enfants de 9 à 12 ans un stage de création plastique et en 3D à partir des œuvres de l’artiste Gérald Vatrin, de leurs formes et de leurs textures de surface, des gris-gris, perles ou encore autres objets de rituels associés.Infos pratiques :De 9h à 16h (possibilité de garderie dès 8h et jusque 17h)55€/semaine (comprend l’accès au site payable 1 fois)Prévoir un pique-nique ainsi qu’une tenue pouvant être saliePaiement sur le compte de l’asbl Les Amis des Musées de la Ville de Charleroi BE 95 3600 4090 0458 (en communication STAGE MDV + NOM ET PRÉNOM de l’enfant)
LOCATION:Site du Bois du Cazier, rue du Cazier 80  6001 Marcinelle
END:VEVENT
END:VCALENDAR