


BEGIN:VCALENDAR
VERSION:2.0
PRODID:-//Museozoom.be v2016//EN
BEGIN:VEVENT
STATUS:CONFIRMED
DTSTART:20210712
DTEND:19700101
SUMMARY:Graines d'archéologues - Stage d'été au MACS
DESCRIPTION:Sur les traces de nos artistes, rejoins-nous cet été et viens te familiariser avec des techniques mystérieuses : dessins et photos de traces du passé ; archivage de récits et collecte d’anciens documents ; reconstitution en trois dimensions à partir de fragments ; visite de ruines et bien d’autres expérimentations fascinantes.Du 12 au 16 juilletDe 9h à 16h5 à 8 ans60 €Collations et boissons comprises (sauf repas de midi)Infos et réservations : +32 (0)65 613 902 / reservations@grand-hornu.be
LOCATION:Rue Sainte-Louise 827301 Hornu
END:VEVENT
END:VCALENDAR