


BEGIN:VCALENDAR
VERSION:2.0
PRODID:-//Museozoom.be v2016//EN
BEGIN:VEVENT
STATUS:CONFIRMED
DTSTART:20210809
DTEND:19700101
SUMMARY:Chasseurs de mémoire - Stage d'été au MACS
DESCRIPTION:Photographie argentique ou numérique, labo photo, collection, safaris-photos, fouilles : viens découvrir différents moyens d’enregistrer des images et d’investiguer des lieux, d’interroger le passé et d’activer ton imagination en t’inspirant de la démarche des artistes présentés au MACS en ce moment.Du 9 au 13 aoûtDe 9h à 16h9 à 12 ans60 €Collations et boissons comprises (sauf repas de midi)Infos et réservations : +32 (0)65 613 902 /reservations@grand-hornu.be
LOCATION:Rue Sainte-Louise 827301 Hornu
END:VEVENT
END:VCALENDAR