


BEGIN:VCALENDAR
VERSION:2.0
PRODID:-//Museozoom.be v2016//EN
BEGIN:VEVENT
STATUS:CONFIRMED
DTSTART:20210802
DTEND:20210806
SUMMARY:Stage K'eau Lanta : le choc des petits titans
DESCRIPTION:Avis à tous les petits Titans, le MEF recherche des aventuriers qui n’ont pas peur d’affronter la Jungle des Rêves ! Avec ton équipe de courageux explorateurs, viens affronter cette semaine remplie d’activités en plein air et de chouettes expériences !De nombreux défis t’attendent : parcours dans les bois, course d’orientation, fabrication d’un kit de survie, bricolage nature, épreuve des poteaux, etc.Du 2 au 6 et du 9 au 13 aoûtDe 9h à 16hGarderie gratuite de 8h30 à 17h125 € par enfantRéservation obligatoire
LOCATION:Allée du Bois des Rêves 1, 1340 Ottignies
END:VEVENT
END:VCALENDAR