


BEGIN:VCALENDAR
VERSION:2.0
PRODID:-//Museozoom.be v2016//EN
BEGIN:VEVENT
STATUS:CONFIRMED
DTSTART:19700101
DTEND:19700101
SUMMARY:Chhht, écoute, entends-tu ? Stage au Musée royal de Mariemont
DESCRIPTION:Écouter les sons dans le musée. Ceux qui existent et ceux que l’on pourrait imaginer. Jouer avec nos propres sons et les installer un peu partout pour une promenade, pas muette du tout. Entendre et bouger, avec ou sans rythme 🙂Bienvenue dans nos découvertes sonores…De 10h à 16hPour les enfants de 3 à 5 ansParticipation : 60€ pour les 4 jours.Réservation obligatoire auprès du Service pédagogique : 064/ 273 784  ou via sp@mariemont.be
LOCATION:Chaussée de Mariemont, 1007140 Morlanwelz
END:VEVENT
END:VCALENDAR