


BEGIN:VCALENDAR
VERSION:2.0
PRODID:-//Museozoom.be v2016//EN
BEGIN:VEVENT
STATUS:CONFIRMED
DTSTART:19700101
DTEND:19700101
SUMMARY:Et si on partait ? Stage au Musée royal de Mariemont
DESCRIPTION:Ta valise est prête ? Nous, on t’attend pour un voyage qui nous emmènera sur les traces des habitants des continents africain, européen, asiatique et américain. Un conseil : ne remplis pas trop ta valise car elle risque de s’alourdir de souvenirs collectés au cours de notre périple. Seras-tu du voyage ?Pour les enfants de 6 à 12 ansDu 13 au 16 juilletDe 10h à 16hParticipation : 60€ pour les 4 jours.Réservation obligatoire auprès du Service pédagogique : 064/ 273 784  ou via sp@mariemont.be
LOCATION:Chaussée de Mariemont, 1007140 Morlanwelz
END:VEVENT
END:VCALENDAR