


BEGIN:VCALENDAR
VERSION:2.0
PRODID:-//Museozoom.be v2016//EN
BEGIN:VEVENT
STATUS:CONFIRMED
DTSTART:20210705
DTEND:20210709
SUMMARY:En chasse Cro Magnon - Stage au Préhistomuseum
DESCRIPTION:Mets-toi dans la peau d’un chasseur préhistorique le temps d’un stage ponctué de jeux, d’ateliers manuels, de défis et de rencontres !Pour les enfants de 8 à 10 ansDu 5 au 9 juillet, du 26 au 30 juillet et du 23 au 27 aoûtDe 9 à 16hGarderie de 8h à 17h15110€Réservation ici
LOCATION:Rue de la Grotte 1284400 Flémalle
END:VEVENT
END:VCALENDAR