


BEGIN:VCALENDAR
VERSION:2.0
PRODID:-//Museozoom.be v2016//EN
BEGIN:VEVENT
STATUS:CONFIRMED
DTSTART:20210701
DTEND:20210702
SUMMARY:Stage créatif 7-12 ans au MILL
DESCRIPTION:POUR QUE L&rsquo;ÉTÉ RIME AVEC MUSÉE !Cet été, l&rsquo;équipe du musée vous propose deux stages créatifs autour de la collection permanente de sculptures d&rsquo;Idel Ianchelevici et de l’exposition JOUR APRÈS JOUR.Une ou deux journées d&rsquo;ateliers créatifs pour clôturer l&rsquo;année scolaire !Ça vous dit ?Pour les enfants de 7 à 12 ans15 € / jour &#8211; inscription à la journéePrévoir collations et pique-nique.Activités de 9 à 16h &#8211; accueil à partir de 8h45.Réservation : edu@lemill.be ou 064 28 25 30
LOCATION:Place communale 217100 La Louvière
END:VEVENT
END:VCALENDAR