


BEGIN:VCALENDAR
VERSION:2.0
PRODID:-//Museozoom.be v2016//EN
BEGIN:VEVENT
STATUS:CONFIRMED
DTSTART:19700101
DTEND:19700101
SUMMARY:Vis ma vie de gallo-romain - Stage au Musée du Malgré-tout
DESCRIPTION:Bienvenue dans l&rsquo;Antiquité !Pendant une semaine, tu te glisseras dans la peau d&rsquo;un(e) romain(e) de la Gaule antique.Rejoins notre cité et découvre la vie des habitants de l&rsquo;époque.Au programme : activités sportives ludiques et créatives.Pour les enfants de 8 à 12 ansDu 23 au 27 aoûtDe 9h à 17hGarderie dès 8h30 et jusque 17h30Prix : 50€ pour la semaine, 30€ pour le deuxième enfant de la même familleInfos et inscriptions : secretariat@cedarc-mmt.be ou 060390243
LOCATION:Rue de la Gare 285670 Treignes
END:VEVENT
END:VCALENDAR