


BEGIN:VCALENDAR
VERSION:2.0
PRODID:-//Museozoom.be v2016//EN
BEGIN:VEVENT
STATUS:CONFIRMED
DTSTART:20210702
DTEND:19700101
SUMMARY:Soirée contée au Musée du Pays d'Ourthe-Amblève
DESCRIPTION:Le temps d’une balade au cœur des bois de Comblain, les conteurs de la Cie Mime d’Argile vous invitent dans l’univers des légendes moyenâgeuses et de l’histoire du Cheval Bayard et des quatre fils Aymon.Où ? Départ au Musée du Pays d’Ourthe-AmblèveQuand ? le vendredi 2 juillet 2021 à 19hPrix : 6€ (réservation obligatoire)Durée : 1h30 à 2h
LOCATION:Place Leblanc, 14170 Comblain-au-Pont
END:VEVENT
END:VCALENDAR