


BEGIN:VCALENDAR
VERSION:2.0
PRODID:-//Museozoom.be v2016//EN
BEGIN:VEVENT
STATUS:CONFIRMED
DTSTART:19700101
DTEND:19700101
SUMMARY:Week-end des familles au Keramis
DESCRIPTION:Après un an de réflexion et de création, ponctué par la crise sanitaire, découvrez le nouveau livret-jeux autour des espaces permanents Keramis !Destiné à sensibiliser les enfants à l&rsquo;art et au patrimoine, ce guide est disponible gratuitement en 4 langues (français, néerlandais, anglais et allemand) à l&rsquo;accueil du musée à partir de ce 26 juin 2021.Ce livret a été rendu possible grâce au soutien de CERA et du CGT et a été imaginé par l&rsquo;équipe éducative de Keramis, en collaboration avec l&rsquo;atelier de design graphique Signes du quotidien et l&rsquo;illustratrice Julie Gelon.Venez le tester en famille ! De plus, tout ce weekend des 26 et 27 juin, pour chaque livret complété, une petite récompense vous attend à la cafétéria du musée !
LOCATION:Place des Fours-Bouteilles 1,7100 La Louvière
END:VEVENT
END:VCALENDAR