


BEGIN:VCALENDAR
VERSION:2.0
PRODID:-//Museozoom.be v2016//EN
BEGIN:VEVENT
STATUS:CONFIRMED
DTSTART:20210705
DTEND:20210709
SUMMARY:Initiation à la création visuelle - Stage ados au Musée L
DESCRIPTION:D’une initiation au maniement de la tablette à la création audiovisuelle, de la prise d’images au montage d’une vidéo, de l’expérimentation de techniques comme le stop motion et le mapping, les jeunes toucheront à toutes les étapes d’une réalisation audiovisuelle créative. Afin d’éveiller leur curiosité et leur créativité, ils bénéficieront également de séances de découvertes artistiques dans les collections du Musée L qui éclaireront les multiples domaines abordés durant le stage ou amplifieront le fil rouge d’une semaine basée sur l’ouverture.Du 5 au 9 juillet 2021Pour les jeunes de 11 à 14 ansEn collaboration avec PointCulture Louvain-la-NeuvePrix : 115€ (90 € pour le second enfant de la même famille)Infos et inscriptions : 02 737 19 63 &#8211; louvain-la-neuve@pointculture.beGarderie possible dès 8h30 et jusque 17h30, sur réservation dès le premier jour.Repas et collations à prévoir.
LOCATION:Place des Sciences, 31348 Louvain-la-Neuve
END:VEVENT
END:VCALENDAR