


BEGIN:VCALENDAR
VERSION:2.0
PRODID:-//Museozoom.be v2016//EN
BEGIN:VEVENT
STATUS:CONFIRMED
DTSTART:20210712
DTEND:19700101
SUMMARY:De toutes les matières - Stage créatif pour les enfants au Musée L
DESCRIPTION:Après avoir découvert l&rsquo;œuvre d&rsquo;un ou d&rsquo;une artiste dans les salles du Musée L, nous t&rsquo;invitons à découvrir, expérimenter, chipoter, triturer… bref, à explorer différentes matières sous toutes leurs coutures dans des réalisations plus folles les unes que les autres. Au fil de la semaine, tu transformeras papier, végétaux, sable, pierre, terre, pigments, fils de laine et tissus en créations sorties tout droit de ton imagination. Exposition et présentation sont prévues en fin de stage.Du 12 au 16 juillet, de 13h à 16h, pour les enfants de 6 à 8 ans (55€)Du 23 au 28 août, de 9h30 à 16h, pour les enfants de 8 à 12 ans (100€)En collaboration avec la Bibliothèque publique d’Ottignies-Louvain-la-NeuveRéservation obligatoire : www.museel.be
LOCATION:Place des Sciences, 31348 Louvain-la-Neuve
END:VEVENT
END:VCALENDAR