


BEGIN:VCALENDAR
VERSION:2.0
PRODID:-//Museozoom.be v2016//EN
BEGIN:VEVENT
STATUS:CONFIRMED
DTSTART:19700101
DTEND:20211107
SUMMARY:"Mondes de papier" - Exposition au Musée Vieille Montagne
DESCRIPTION:Franz-Josef Kochs vit et travaille à Alsdorf, près d&rsquo;Aix-la-Chapelle. Son matériau de prédilection est le carton, « volontiers usagé, en provenance du supermarché ».Crayon, crayons de couleur et craie de cire, un appareil photo et une paire de ciseaux constituent ses outils. Toutes ses illustrations racontent des histoires d&rsquo;ici, d&rsquo;ailleurs et de partout. C’est le cas des scènes de vie bariolées sur la chaussée (« Pavei »), du temps où La Calamine s&rsquo;appelait encore Moresnet-Neutre.Tarifs :6€ &#8211; 5€ &#8211; 4€Enfants (0-5 ans) : 0 €Forfait famille : 16 €
LOCATION:Chaussée de Liège 2784720 LA CALAMINE	
END:VEVENT
END:VCALENDAR