


BEGIN:VCALENDAR
VERSION:2.0
PRODID:-//Museozoom.be v2016//EN
BEGIN:VEVENT
STATUS:CONFIRMED
DTSTART:19700101
DTEND:19700101
SUMMARY:Visite contée au MACS
DESCRIPTION:Accompagnés des conteuses Magali Mineur et Christine Andrien, laissez-vous guider le temps d’une visite contée, l’occasion de découvrir les œuvres facétieuses de Léon Wuidar autrement.Dates : 26 et 30 décembre &#8211; 2 et 6 janvierHoraire : 14hTarifs : Gratuit moyennant le paiement du droit d&rsquo;entrée aux expositionsRéservation obligatoire/souhaitée ? : souhaitée
LOCATION:Rue Sainte-Louise 827301 Hornu
END:VEVENT
END:VCALENDAR