


BEGIN:VCALENDAR
VERSION:2.0
PRODID:-//Museozoom.be v2016//EN
BEGIN:VEVENT
STATUS:CONFIRMED
DTSTART:20211205
DTEND:19700101
SUMMARY:Le mystère Mithra. Plongée au cœur d'un culte romain
DESCRIPTION:Parcourir l’exposition et remonter le temps ! Plonger au cœur de l’Empire romain, à la découverte de Mithra, de son mythe, de son culte, et des communautés qui l’entouraient. Se nourrir de textes et d’images, se poser des questions pour peu à peu décrypter l’un des plus mystérieux dieu antique.Et pour terminer en beauté, un atelier de réalisation d’un masque en papier pour s’approprier l’exposition et repartir avec une création originaleDate : dimanche 5 décembre 2021Horaire : de 14h à 16h30Tarifs : 2€ par personneInscription indispensable auprès du Service pédagogique: 064/ 27 37 84 ou sp@mariemont.be ou à l&rsquo;accueil du Musée: 064/ 27 37 41 ou accueil@mariemont.be&nbsp;
LOCATION:Chaussée de Mariemont, 1007140 Morlanwelz
END:VEVENT
END:VCALENDAR