


BEGIN:VCALENDAR
VERSION:2.0
PRODID:-//Museozoom.be v2016//EN
BEGIN:VEVENT
STATUS:CONFIRMED
DTSTART:19700101
DTEND:19700101
SUMMARY:Viens t'a (musée) au Musée de la Photographie
DESCRIPTION:Découvre en famille le sac Marmaille&amp;Co, son contenu et les jeux. Un moment ludique à vivre dans les salles du musée. Un maître du jeu sera présent pour te guider dans les différents jeux.Date : mercredi 22 décembre 2021Horaire : de 14h à 16h30Tarifs : compris dans le prix d&rsquo;entrée du muséeRéservation obligatoire : service.educatif@museephoto.be
LOCATION:Avenue Paul Pastur 116032 Charleroi
END:VEVENT
END:VCALENDAR