


BEGIN:VCALENDAR
VERSION:2.0
PRODID:-//Museozoom.be v2016//EN
BEGIN:VEVENT
STATUS:CONFIRMED
DTSTART:19700101
DTEND:19700101
SUMMARY:Soirée pyjama au Musée de Carnaval et du Masque
DESCRIPTION:Enfile ton plus beau pyjama et rejoins-nous le temps d’une soirée contée unique à la découverte des mythes et légendes d’Europe.Date : Samedi 18 décembre 2021Horaire : De 18h à 19h15Tarifs : 5€/enfantRéservation obligatoire/souhaitée ? : Réservation obligatoire au 064 33 57 41 ou par mail : accueil@museedumasque.be
LOCATION:Rue Saint Moustier 107130 Binche
END:VEVENT
END:VCALENDAR