


BEGIN:VCALENDAR
VERSION:2.0
PRODID:-//Museozoom.be v2016//EN
BEGIN:VEVENT
STATUS:CONFIRMED
DTSTART:20220205
DTEND:19700101
SUMMARY:Exposition Nicolas Pitot au Musée du Pays d'Ourthe-Amblève
DESCRIPTION:Le musée du Pays d’Ourthe-Amblève t’invite à découvrir la vie et les œuvres de Nicolas Pitot, peintre de Comblain. Munis-toi de ton carnet du peintre et observe ses peintures hautes en couleur.Un programme de visites, de conférences et d’animations sera proposé tout au long de l&rsquo;exposition.Du mardi au dimanche, de 13h à 17h.Adulte : 3€ &#8211; Enfant (4-11 ans, carnet compris) : 1.5€ &#8211; Enfant (-4 ans) : gratuitPlus d&rsquo;informations ici ou via info@musee-ourthe-ambleve.be
LOCATION:Place Leblanc, 14170 Comblain-au-Pont
END:VEVENT
END:VCALENDAR