


BEGIN:VCALENDAR
VERSION:2.0
PRODID:-//Museozoom.be v2016//EN
BEGIN:VEVENT
STATUS:CONFIRMED
DTSTART:20220301
DTEND:19700101
SUMMARY:Photographie Kézako ?
DESCRIPTION:Pourquoi dit-on que la photographie c’est écrire avec la lumière ? Nous partirons ensemble résoudre cette énigme à travers des images et des appareils photo pas comme les autres, et nous terminerons cette aventure par une expérience en chambre noire d’une technique simple aux effets bluffants, le photogramme !Date : 1er mars 2022Horaire : 14h à 15hTarifs : 2€ par enfants + entrée au musée pour les parentsRéservation obligatoire/souhaitée ? : service.educatif@museephoto.be
LOCATION:Avenue Paul Pastur 116032 Charleroi
END:VEVENT
END:VCALENDAR