


BEGIN:VCALENDAR
VERSION:2.0
PRODID:-//Museozoom.be v2016//EN
BEGIN:VEVENT
STATUS:CONFIRMED
DTSTART:19700101
DTEND:19700101
SUMMARY:Lundi gras au Musée international du Carnaval et du Masque
DESCRIPTION:À l’occasion du Lundi gras, viens célébrer le carnaval au Musée du Masque ! Au programme : visite ludique sur le thème du Carnaval de Binche, initiation au tambour, confection d’un masque de fantaisie, bataille de confettis… bref, une journée de folie en perspective !Date : Lundi 28 février 2022Horaire : De 9h à 17hTarifs : 15€/journéeAge : de 6 à 12 ansRéservation obligatoire au 064 33 57 41 ou par mail : accueil@museedumasque.be
LOCATION:Rue Saint Moustier 107130 Binche
END:VEVENT
END:VCALENDAR