


BEGIN:VCALENDAR
VERSION:2.0
PRODID:-//Museozoom.be v2016//EN
BEGIN:VEVENT
STATUS:CONFIRMED
DTSTART:20220302
DTEND:19700101
SUMMARY:Atelier créatif au Musée du Marbre
DESCRIPTION:Plumes, paillettes et autres fantaisies, venez confectionner votre masque vénitien pour ce carnaval au Musée du Marbre.Date : mercredi 2 marsHoraire : 14h-16hTarifs : 3€/enfantRéservation obligatoire: musee.marbre@skynet.be ou 060 412048
LOCATION:Grand rue 226470 Rance
END:VEVENT
END:VCALENDAR