


BEGIN:VCALENDAR
VERSION:2.0
PRODID:-//Museozoom.be v2016//EN
BEGIN:VEVENT
STATUS:CONFIRMED
DTSTART:19700101
DTEND:19700101
SUMMARY:Exposition "Orient-Express"
DESCRIPTION:Mythique. Luxueux. Belge !Embarquez pour un voyage inoubliable à bord de l&rsquo;Orient-Express !Du 26 octobre 2021 au 17 avril 2022, Train World accueille une exposition exceptionnelle consacrée à l’épopée de l’Orient-Express ainsi qu’à son créateur, le Liégeois Georges Nagelmackers.A cette occasion, des voitures mythiques de l’Orient-Express seront exceptionnellement présentées à Train World, le musée de la SNCB à Bruxelles. Cette exposition-phare du festival Europalia Trains &amp; Tracks fera la part belle à des œuvres d’art décoratif et des documents uniques retraçant l’aventure de l’Orient-Express et des Wagons-Lits.Ouvert : du mardi au dimanche de 10h à 17h (dernière entrée à 15h30), fermé les lundis.Plus d’informations ici ou via info@trainworld.beTicket : l&rsquo;accès à l&rsquo;exposition temporaire est inclus dans le prix d&rsquo;entrée du musée. Achetez votre ticket ici.
LOCATION:Place Princesse Elisabeth 51030 Schaerbeek
END:VEVENT
END:VCALENDAR