


BEGIN:VCALENDAR
VERSION:2.0
PRODID:-//Museozoom.be v2016//EN
BEGIN:VEVENT
STATUS:CONFIRMED
DTSTART:20220202
DTEND:19700101
SUMMARY:A la recherche du diamant du sultan à Trainworld
DESCRIPTION:La maman d&rsquo;Estelle et Lucie a trouvé cette mystérieuse lettre :« Un trésor se cache à Train World. Il se trouve dans un coffre et le code de ce coffre est perdu… Laissez le diamant vous éblouir et le bonheur vous trouvera.”Quelle découverte incroyable ! Toi aussi tu as envie de trouver ce trésor ?Alors embarque avec Estelle et Lucie pour un voyage à travers le musée, à la recherche du diamant du sultan entre les merveilleuses locomotives de Train World! Pour le trouver, de chouettes missions t’attendent. Bonne chance !Cette activité est disponible en français et en néerlandais et est également accessible aux enfants sourds et malentendants (8+).Date : chaque jour pendant l&rsquo;expo Orient-Express (jusqu&rsquo;au 17.04.22), excepté les lundis, jour de fermeture du musée.Horaire : de 10h à 17h, dernière entrée à 15h30.Tarifs : gratuit à l’achat d’un ticket d’entrée au musée.Réservation obligatoire/souhaitée ? : La réservation des tickets d’entrée à l’exposition via notre webshop est fortement recommandée.
LOCATION:Place Princesse Elisabeth 51030 Schaerbeek
END:VEVENT
END:VCALENDAR