


BEGIN:VCALENDAR
VERSION:2.0
PRODID:-//Museozoom.be v2016//EN
BEGIN:VEVENT
STATUS:CONFIRMED
DTSTART:19700101
DTEND:20220904
SUMMARY:Exposition "DANIEL PELLETTI. Peinture à vif"
DESCRIPTION:Peintre et dessinateur, Daniel Pelletti présente au Mill une rétrospective de son œuvre. Depuis près de 50 ans, cette figure incontournable de l&rsquo;art hainuyer ne cesse de se réinventer, autour d&rsquo;un expressionnisme au langage personnel et, notamment, de références au pop art. Acteur engagé, toujours connecté à l&rsquo;actualité, Pelletti témoigne de la complexité de la condition humaine, de ses travers, de ses combats ou de sa beauté. Ses toiles contiennent mille histoires que le peintre cherche à exprimer, juxtaposées et imbriquées les unes aux autres, tel un feu d&rsquo;artifice de formes et de couleurs. Formé par Gustave Camus à l&rsquo;Académie de Mons, Daniel Pelletti a été professeur de peinture puis directeur à l&rsquo;Ecole des Arts de Braine-l&rsquo;Alleud.Infos pratiques (horaire, tarifs, etc.)
LOCATION:Place communale 217100 La Louvière
END:VEVENT
END:VCALENDAR