


BEGIN:VCALENDAR
VERSION:2.0
PRODID:-//Museozoom.be v2016//EN
BEGIN:VEVENT
STATUS:CONFIRMED
DTSTART:19700101
DTEND:20220306
SUMMARY:Chasse au trésor au Palais du Coudenberg
DESCRIPTION:Le petit Charles Quint a besoin de ton aide ! Il a oublié le mot de passe pour accéder à son trésor qui contient son collier de l’ordre de la Toison d’or. Charles est à la recherche de princesses et de chevaliers valeureux pour l’aider à décoder le mot de passe. Es-tu assez téméraire pour le suivre dans sa quête au milieu des vestiges du palais du Coudenberg ? Si tu réussis, Charles aura certainement une récompense pour toi !Comment ça se passe ?Tu recevras un sac à dos avec du matériel pour effectuer des missions (carte au trésor, déguisement, puzzle, lampe de poche…). Chaque mission donne un indice pour trouver le mot de passe qui leur permettra d’accéder au trésor (le fameux collier de la toison d’or).Tu recevras même un petit cadeau à la fin du jeu ! Adapté pour les enfants de 5 à 8 ans accompagnés d’un adulte.Du 26 février au 6 mars 2022. Du mardi au dimanche – fermé les lundis (1h-1h30 d’animation)4€/enfant, 10€/adulte, 8€/senior, 1,25€/Article 27Réservation obligatoire via le site web ou par téléphone
LOCATION:Place des Palais 71000 Bruxelles 
END:VEVENT
END:VCALENDAR