


BEGIN:VCALENDAR
VERSION:2.0
PRODID:-//Museozoom.be v2016//EN
BEGIN:VEVENT
STATUS:CONFIRMED
DTSTART:20220211
DTEND:19700101
SUMMARY:Exposition "ZOONOSE. Documentation d'une pandémie"
DESCRIPTION:Documenter différentes étapes du combat, tenter de traduire l&rsquo;indicible, l’ancrer dans notre histoire collective, telle est la nécessité qui s’est imposée à Cédric Gerbehaye et à Caroline Lamarche avec l’appui du Centre Hospitalier Universitaire de Tivoli et de la ville de La Louvière. Soit un an d’immersion en pandémie dont rendent compte, au Mill – Musée Ianchelevici, l’exposition ZOONOSE et le livre éponyme.Un regard universel sur la détresse et le courage. Lire plus&#8230;Informations pratiques (horaires, tarifs, etc.)&nbsp;&nbsp;
LOCATION:Place communale 217100 La Louvière
END:VEVENT
END:VCALENDAR