


BEGIN:VCALENDAR
VERSION:2.0
PRODID:-//Museozoom.be v2016//EN
BEGIN:VEVENT
STATUS:CONFIRMED
DTSTART:20220505
DTEND:19700101
SUMMARY:Nuit au Musée - Musée de la Banque nationale
DESCRIPTION:Le 5 mai, de 17h à 22h, viens fêter les 172 ans d’existence de la Banque nationale à l’occasion d’une soirée horsdu commun !Pour célébrer cet anniversaire, deux activités te sont proposées : une courte visite guidée centrée sur la Banque nationale où tu pourras découvrir les signes de sécurité présents sur nos billets de banque ; et un atelier pour réaliser une carte d’anniversaire avec des techniques d’impression anciennes ! Cette soirée festive est gratuite et accessible à tous, enfants et adultes, sur réservation (Nocturnes). »
LOCATION:Rue Montagne aux Herbes Potagères, 571000 Bruxelles
END:VEVENT
END:VCALENDAR