


BEGIN:VCALENDAR
VERSION:2.0
PRODID:-//Museozoom.be v2016//EN
BEGIN:VEVENT
STATUS:CONFIRMED
DTSTART:19700101
DTEND:19700101
SUMMARY:Nuit au musée - Musée BELvue
DESCRIPTION:Viens vivre une soirée inoubliable en famille pour Halloween. Fun et frissons garantis !Le 31 octobre, de 17h à 22h5€/enfant, adultes payants (voir les tarifs du musée)Pas de réservation nécessaire (sauf changement lié à la situation sanitaire)
LOCATION:Place des Palais 71000 Bruxelles
END:VEVENT
END:VCALENDAR