


BEGIN:VCALENDAR
VERSION:2.0
PRODID:-//Museozoom.be v2016//EN
BEGIN:VEVENT
STATUS:CONFIRMED
DTSTART:20220406
DTEND:19700101
SUMMARY:Nuit au musée - Ecomusée du Viroin
DESCRIPTION:Mets tes 5 sens en éveil pour plonger dans un monde de matières et de sons d’autrefois…et d’aujourd’hui !Viens en pyjama et avec ta lampe de poche.Animation uniquement pour les enfants de 4 à 12 ans. Entretemps, les parents seront en garderie, bien accompagnés par une animatrice.Les 6 avril et 5 octobre, de 18h à 20h5€/participantRéservation obligatoire
LOCATION:Rue Eugène Defraire 635670 Treignes
END:VEVENT
END:VCALENDAR