


BEGIN:VCALENDAR
VERSION:2.0
PRODID:-//Museozoom.be v2016//EN
BEGIN:VEVENT
STATUS:CONFIRMED
DTSTART:20220508
DTEND:19700101
SUMMARY:Instant famille - Fête des Mères au CBBD
DESCRIPTION:Pour la Fête des Mères, viens prendre un petit déjeuner avec des bulles pour être d’attaque pour visiter toutes les expositions du Musée de la BD ! Cette formule à tarif réduit te fera profiter de tous les bons côtés de la Brasserie Horta et du CBBD.8 mai 2022, de 10h à 11h3012€/enfant et 19,50€/adulte. Paiement à effectuer uniquement à la Brasserie Horta, tickets du Musée de la BD inclus dans le forfait.Réservation obligatoire
LOCATION:Rue des Sables 20, 1000 Bruxelles
END:VEVENT
END:VCALENDAR