


BEGIN:VCALENDAR
VERSION:2.0
PRODID:-//Museozoom.be v2016//EN
BEGIN:VEVENT
STATUS:CONFIRMED
DTSTART:20220408
DTEND:19700101
SUMMARY:Instant famille - Enigmes au Computer-Museum Nam-IP
DESCRIPTION:Un bug informatique a fait disparaître le trésor du musée. Parcours les collections et remonte la piste du trésor. Sauras-tu résoudre les énigmes et décoder le puzzle qui te mènera à ta récompense ?
LOCATION:rue Henri Blès 192a5000 Namur
END:VEVENT
END:VCALENDAR