


BEGIN:VCALENDAR
VERSION:2.0
PRODID:-//Museozoom.be v2016//EN
BEGIN:VEVENT
STATUS:CONFIRMED
DTSTART:19700101
DTEND:19700101
SUMMARY:Instant famille - Samedis ludiques au Musée des Transports en Commun de Wallonie
DESCRIPTION:Chaque 3e samedi du mois, participe aux « SAMEDIS LUDIQUES ».Au programme :Le « Menu famille » : viens découvrir le musée avec ta famille. Écoutez l’histoire de Rémi et Juliette et résolvez ensemble de petites énigmes pour avancer dans la narration. Participez ensuite à un atelier créatif. Pour les familles avec enfants de 6 à 12 ans.L’escape game : tu es amateur(trice) de jeux et de défis ? Participe en famille ou entre amis à notre escape game. Ton véhicule-pion est emprisonné sur un plateau de jeu géant. Chaque énigme résolue te permettra d’obtenir un code qui déverrouillera la porte d’une « escape box » et fera avancer ton véhicule dans les couloirs du temps. Mais attention, le chronomètre tourne ! Pour les familles avec enfants de 12 ans et plus.&nbsp;Chaque 3e samedi du moisMenu famille :&#8211; Visite guidée : de 14h30 à 15h30&#8211; Atelier : de 15h30 à 16h30Escape game : de 15h à 16h2 €/ personne en plus du prix d’entrée au muséeRéservation obligatoire, via la plateforme de réservation en ligne (bouton « réserver » sur la page d’accueil du site web), par mail à l’adresse info@musee-transports.be ou par téléphone au 04 361 94 19
LOCATION:Rue Richard Heintz, 94020 Liège
END:VEVENT
END:VCALENDAR