


BEGIN:VCALENDAR
VERSION:2.0
PRODID:-//Museozoom.be v2016//EN
BEGIN:VEVENT
STATUS:CONFIRMED
DTSTART:20220409
DTEND:19700101
SUMMARY:Exposition "Archetype Canon"
DESCRIPTION:Cette exposition est une sorte de pamphlet féministe, une rencontre entre les œuvres d’artistes femmes présentes dans les collections du CGII et celles de Delphine Deguislage. L’artiste en résidence met en scène un espace ambigu, où la sphère domestique rencontre l’espace public. Les gestes de la maison et du fait main, imparfaits et familiaux, se heurtent aux images de magazines, violentes et médiatiques. Collages numériques, créations textiles, sculptures et gravures s’y côtoient pour rendre compte, à travers le prisme du genre, des modes de représentation des corps, du désir et des pratiques sociales.Dans le cadre du projet Un futur pour la culture soutenu par la Fédération Wallonie‑Bruxelles et sur base d’une invitation d’Emmanuel Lambion.Informations pratiques
LOCATION:Rue des Amours 107100 La Louvière
END:VEVENT
END:VCALENDAR