


BEGIN:VCALENDAR
VERSION:2.0
PRODID:-//Museozoom.be v2016//EN
BEGIN:VEVENT
STATUS:CONFIRMED
DTSTART:20220406
DTEND:20220408
SUMMARY:Viens t'a(musées) ! au TAMAT
DESCRIPTION:LA SEMAINE « FAMILLES AUX MUSÉES »Dans le cadre de Asia Europe 5 et en collaboration avec le Musée des arts de la Marionnette.Cette saison, le TAMAT vous emmène, en famille, d’un continent à l’autre, entre deux musées ! Des aller-retour d’Asie en Europe et de TAMAT au Musée des arts de la Marionnette.Les deux équipes muséales joindront leurs savoir-faire et leurs idées afin d’offrir aux familles des moments de visites et de créations autour de l’exposition Asia-Europe V ! Une collaboration riche qui vous fera voyager !Les 6, 7 et 8 avril 2022, de 14h à 16h6€/jour et personneRéservation obligatoire via le site web
LOCATION:Place Reine Astrid 97500 Tournai 
END:VEVENT
END:VCALENDAR