


BEGIN:VCALENDAR
VERSION:2.0
PRODID:-//Museozoom.be v2016//EN
BEGIN:VEVENT
STATUS:CONFIRMED
DTSTART:20220412
DTEND:19700101
SUMMARY:Viens t'a(musées) ! à l'Espace gallo-romain
DESCRIPTION:Des animations à faire en famille pour petits et grands.Découvrez un conte plein de magie.Suivez la visite éclair de l’exposition au travers quelques objets phares.Ensuite, profitez d’une dégustation ! Pour les enfants, dégustation d’un jus de fruits artisanal et original et pour les adultes, dégustation de la bière de l’expo et d’une cervoise !Le petit plus ? Une nouvelle façon de visiter ! Découvrez en famille le carnet de jeux, trouvez les indices parmi les objets exposés et menez l‘enquête.Du 12 au 15 avril 2022, de 10h à 11h30 et de 14h à 15h30Entrée gratuite + 5€/personneRéservation souhaitée
LOCATION:Rue de Nazareth 27800 Ath
END:VEVENT
END:VCALENDAR