


BEGIN:VCALENDAR
VERSION:2.0
PRODID:-//Museozoom.be v2016//EN
BEGIN:VEVENT
STATUS:CONFIRMED
DTSTART:20220406
DTEND:20220406
SUMMARY:Viens t'a(musées) au Musée de la photographie
DESCRIPTION:Mon premier photogramme est un atelier photographique argentique conçu pour les tout-petits de 3 à 7 ans accompagnés des parents.Le 6 avril 2022, de 14h à 15h5€/bulle (famille)Réservation obligatoire par mail
LOCATION:Avenue Paul Pastur 116032 Charleroi
END:VEVENT
END:VCALENDAR