


BEGIN:VCALENDAR
VERSION:2.0
PRODID:-//Museozoom.be v2016//EN
BEGIN:VEVENT
STATUS:CONFIRMED
DTSTART:20220412
DTEND:19700101
SUMMARY:Viens t'a(musées) ! au Musée du Verre
DESCRIPTION:1. L’origami, art ancestral de pliage, c’est comme plier pour dessiner en 3D !De tes mains naîtront des petits pliages colorés, des petits animaux ou d’autres petites formes bien sympathiques.Avec Michael David, origamiste professionnel (Le Lotus rouge).Une animation pour les enfants à partir de 7 ans.Le 12 avril 2022, à 13h30Entrée sur le site du Bois du Cazier (enfants 5€, gratuit – 6 ans, adultes 9€, séniors 8€)Réservation obligatoire au 071/86 11 36 ou 35 via museesmediation@charleroi.be2. Écoutons la conteuse nous raconter des histoires… des histoires vivantes !Celles d’objets du quotidien qui nous emmènent dans des péripéties pleines d’émotions.Avec Magali Mineur – conteuse, auteur et co-directrice du Théâtre de la Parole.Le 14 avril 2022, à 14hEntrée sur le site du Bois du Cazier + 1.25€/personne (enfants 5€, gratuit – 6 ans, adultes 9€, séniors 8€)Réservation obligatoire au 071/86 11 36 ou 35 via museesmediation@charleroi.beSupport de visite de l’exposition temporaire « Jean-Baptiste Sibertin-Blanc. Paréidolies » pour les enfants disponible à l’accueil gratuitement – www.charleroi-museum.bePossibilité de passer la journée sur le site du Bois du Cazier.
LOCATION:Site du Bois du Cazier, rue du Cazier 80  6001 Marcinelle
END:VEVENT
END:VCALENDAR